BEGIN:VCALENDAR
VERSION:2.0
PRODID:-//Entrepreneurs en Evolution - ECPv6.15.20//NONSGML v1.0//EN
CALSCALE:GREGORIAN
METHOD:PUBLISH
X-WR-CALNAME:Entrepreneurs en Evolution
X-ORIGINAL-URL:https://www.entrepreneurs-evolution.org
X-WR-CALDESC:Évènements pour Entrepreneurs en Evolution
REFRESH-INTERVAL;VALUE=DURATION:PT1H
X-Robots-Tag:noindex
X-PUBLISHED-TTL:PT1H
BEGIN:VTIMEZONE
TZID:Europe/Paris
BEGIN:DAYLIGHT
TZOFFSETFROM:+0100
TZOFFSETTO:+0200
TZNAME:CEST
DTSTART:20230326T010000
END:DAYLIGHT
BEGIN:STANDARD
TZOFFSETFROM:+0200
TZOFFSETTO:+0100
TZNAME:CET
DTSTART:20231029T010000
END:STANDARD
BEGIN:DAYLIGHT
TZOFFSETFROM:+0100
TZOFFSETTO:+0200
TZNAME:CEST
DTSTART:20240331T010000
END:DAYLIGHT
BEGIN:STANDARD
TZOFFSETFROM:+0200
TZOFFSETTO:+0100
TZNAME:CET
DTSTART:20241027T010000
END:STANDARD
BEGIN:DAYLIGHT
TZOFFSETFROM:+0100
TZOFFSETTO:+0200
TZNAME:CEST
DTSTART:20250330T010000
END:DAYLIGHT
BEGIN:STANDARD
TZOFFSETFROM:+0200
TZOFFSETTO:+0100
TZNAME:CET
DTSTART:20251026T010000
END:STANDARD
END:VTIMEZONE
BEGIN:VEVENT
DTSTART;TZID=Europe/Paris:20241120T090000
DTEND;TZID=Europe/Paris:20241120T160000
DTSTAMP:20260423T051546
CREATED:20241022T141329Z
LAST-MODIFIED:20241107T135245Z
UID:899-1732093200-1732118400@www.entrepreneurs-evolution.org
SUMMARY:Journée de l'entrepreneuriat
DESCRIPTION:📅 Date : Mercredi 20 novembre 2024\n📍 Lieu : Le Rooftop de Viry\, 53 rue Francoeur\, Viry-Châtillon\n🤝 Co-organisation : Rooftop de Viry & Entrepreneurs en Évolution \nVous êtes entrepreneur ou porteur de projet ? Rejoignez-nous pour une journée inspirante\, entièrement dédiée à la réflexion stratégique\, au partage d’expériences\, et à l’enrichissement mutuel. Que vous souhaitiez affiner votre stratégie d’entreprise\, rencontrer d’autres entrepreneurs ou simplement prendre un moment pour réfléchir à vos prochaines étapes\, cette journée est faite pour vous ! \n\n9h00 – 9h30 : Accueil café\nVenez prendre un café et découvrir les autres participants dans une ambiance décontractée avant de démarrer cette journée sous le signe de la stratégie et du partage entrepreneurial. \n\n9h30 – 12h30 : Atelier de Stratégie – « Concevoir ou revoir sa stratégie d’entreprise »\nAnimé par : Stéphane Ruellan\, créateur d’espaces de travail partagés\, président d’Entrepreneurs en Évolution\, et entrepreneur depuis plus de 20 ans.\nCet atelier vous propose de repenser votre stratégie d’entreprise avec des outils concrets et des exercices pratiques. Que vous soyez en pleine croissance ou en phase de lancement\, cet atelier est conçu pour vous aider à : \n\nClarifier la vision et la mission de votre entreprise\nIdentifier vos forces et vos axes d’amélioration\nDéfinir des priorités stratégiques claires\nCréer un plan d’action efficace pour accélérer votre développement.\n\n🔹 Objectifs : Ressortir avec une vision plus claire de votre entreprise et un plan d’action concret pour dynamiser votre croissance.\n🔹 Durée : 3 heures\n🔹 Tarif : 45 € TTC (gratuit pour les adhérents de l’association Entrepreneurs en Évolution) \nInscription \n\n12h30 – 14h00 : Repas participatif de réseautage entrepreneurial\nProfitez d’un déjeuner convivial pour échanger avec d’autres entrepreneurs et enrichir votre réseau. Chacun est invité à apporter un plat à partager\, favorisant un moment de partage et de convivialité. Ce déjeuner sera l’occasion idéale pour créer de nouvelles connexions et découvrir des opportunités locales.\n \nInscription \n\n14h00 – 16h00 : Atelier de co-développement – « Échanger et grandir ensemble »\nAnimé par : Entrepreneurs en Évolution \nLe co-développement est une approche collaborative permettant à chaque entrepreneur de bénéficier de l’intelligence collective. Au cours de cet atelier\, les participants partageront des problématiques concrètes de leur entreprise et\, grâce aux échanges et à l’écoute\, trouveront des solutions pragmatiques et créatives. \n🔹 Objectifs : Vous aurez l’occasion de faire le bilan de votre année 2024 en partageant un succès et un échec\, tout en définissant votre projet pour 2025 avec une vision claire de votre fin d’année idéale.\n🔹 Durée : 2 heures\n🔹Tarif : 45 € TTC (gratuit pour les adhérents de l’association Entrepreneurs en Évolution) \nInscription
URL:https://www.entrepreneurs-evolution.org/event/journee-de-lentrepreneuriat/
LOCATION:Rooftop\, 53 Rue Francoeur\, Viry-Châtillon\, 91170\, France
CATEGORIES:CODEV,Formations,Sensibilisation
ATTACH;FMTTYPE=image/png:https://www.entrepreneurs-evolution.org/wp-content/uploads/2024/10/Capture-decran-2023-05-12-a-14.16.58.png
END:VEVENT
END:VCALENDAR